BEGIN:VCALENDAR
VERSION:2.0
PRODID:-//Squarespace Inc/Squarespace 6//v6//EN
BEGIN:VEVENT
UID:5c6b52839b747a1be0f55903@squarespace.com
DTSTAMP:20190224T052401Z
DTSTART:20190401T230000Z
DTEND:20190402T010000Z
SUMMARY:Australian Breastfeeding Association Meeting
END:VEVENT
END:VCALENDAR
