BEGIN:VCALENDAR
VERSION:2.0
PRODID:-//Squarespace Inc/Squarespace 6//v6//EN
BEGIN:VEVENT
UID:5c6b5310e5e5f0977022ba84@squarespace.com
DTSTAMP:20190224T052407Z
DTSTART:20190514T000000Z
DTEND:20190514T020000Z
SUMMARY:Australian Breastfeeding Association Meeting
END:VEVENT
END:VCALENDAR
