BEGIN:VCALENDAR
VERSION:2.0
PRODID:-//Squarespace Inc/Squarespace 6//v6//EN
BEGIN:VEVENT
UID:5c6b53764785d32318cc64c4@squarespace.com
DTSTAMP:20190224T052414Z
DTSTART:20190611T000000Z
DTEND:20190611T020000Z
SUMMARY:Australian Breastfeeding Association Meeting
END:VEVENT
END:VCALENDAR
