BEGIN:VCALENDAR
VERSION:2.0
PRODID:-//Squarespace Inc/Squarespace 6//v6//EN
BEGIN:VEVENT
UID:5bb3e90d1905f4207c1860d6@squarespace.com
DTSTAMP:20190221T000725Z
DTSTART:20190321T210000Z
DTEND:20190323T220000Z
SUMMARY:Yackandandah Folk Festival
END:VEVENT
END:VCALENDAR
