BEGIN:VCALENDAR
VERSION:2.0
PRODID:-//Squarespace Inc/Squarespace 6//v6//EN
BEGIN:VEVENT
UID:5c4949ec88251b738e061491@squarespace.com
DTSTAMP:20190124T054111Z
DTSTART:20190301T220000Z
DTEND:20190302T063000Z
SUMMARY:First Aid Course - Yackandandah Community Centre
END:VEVENT
END:VCALENDAR
