BEGIN:VCALENDAR
VERSION:2.0
PRODID:-//Squarespace Inc/Squarespace 6//v6//EN
BEGIN:VEVENT
UID:5c8083af71c10bdcbe3fcc8f@squarespace.com
DTSTAMP:20190307T031743Z
DTSTART:20190315T223000Z
DTEND:20190316T010000Z
SUMMARY:Yackandandah Community Garden: Food Swap
END:VEVENT
END:VCALENDAR
