BEGIN:VCALENDAR
VERSION:2.0
PRODID:-//Squarespace Inc/Squarespace 6//v6//EN
BEGIN:VEVENT
UID:5c807815ec212dd62186dafc@squarespace.com
DTSTAMP:20190307T023622Z
DTSTART:20190315T233000Z
DTEND:20190316T010000Z
SUMMARY:Workshop: Build a Wicking Bed
END:VEVENT
END:VCALENDAR
