BEGIN:VCALENDAR
VERSION:2.0
PRODID:-//Squarespace Inc/Squarespace 6//v6//EN
BEGIN:VEVENT
UID:5c3fff0c03ce6454cba8be76@squarespace.com
DTSTAMP:20190117T060159Z
DTSTART:20190314T220000Z
DTEND:20190315T050000Z
SUMMARY:Mental Health First Aid Course
GEO:-36.312861;146.838793
LOCATION:Yackandandah Community Centre\, 29 High St\, Yackandandah
END:VEVENT
END:VCALENDAR
