BEGIN:VCALENDAR
VERSION:2.0
PRODID:-//Squarespace Inc/Squarespace 6//v6//EN
BEGIN:VEVENT
UID:5c401a57bba223277c0051d4@squarespace.com
DTSTAMP:20190211T231732Z
DTSTART:20190328T220000Z
DTEND:20190329T050000Z
SUMMARY:Mental Health First Aid Course
GEO:-36.312861;146.838793
LOCATION:Yackandandah Community Centre\, 29 High St\, Yackandandah
END:VEVENT
END:VCALENDAR
