BEGIN:VCALENDAR
VERSION:2.0
PRODID:-//Squarespace Inc/Squarespace 6//v6//EN
BEGIN:VEVENT
UID:5c58bf16971a1829fbe4d3ec@squarespace.com
DTSTAMP:20190204T224024Z
DTSTART:20190207T224500Z
DTEND:20190208T004500Z
SUMMARY:1GWh Celebration
END:VEVENT
END:VCALENDAR
