BEGIN:VCALENDAR
VERSION:2.0
PRODID:-//Squarespace Inc/Squarespace 6//v6//EN
BEGIN:VEVENT
UID:5c46875aaa4a995fe6bba079@squarespace.com
DTSTAMP:20190122T031640Z
DTSTART:20190223T080000Z
DTEND:20190223T100000Z
SUMMARY:Free Movie Event - The Merger
END:VEVENT
END:VCALENDAR
