BEGIN:VCALENDAR
VERSION:2.0
PRODID:-//Squarespace Inc/Squarespace 6//v6//EN
BEGIN:VEVENT
UID:5c64e583e5e5f060f54dae0c@squarespace.com
DTSTAMP:20190214T035622Z
DTSTART:20190223T030000Z
DTEND:20190223T050000Z
SUMMARY:Ann Blainey Author Talk
END:VEVENT
END:VCALENDAR
