BEGIN:VCALENDAR
VERSION:2.0
PRODID:-//Squarespace Inc/Squarespace 6//v6//EN
BEGIN:VEVENT
UID:5c4e358dcd836601cd150622@squarespace.com
DTSTAMP:20190127T225724Z
DTSTART:20190220T070000Z
DTEND:20190220T110000Z
SUMMARY:LINCD - Community Crowdfunding Event.
END:VEVENT
END:VCALENDAR
