BEGIN:VCALENDAR
VERSION:2.0
PRODID:-//Squarespace Inc/Squarespace 6//v6//EN
BEGIN:VEVENT
UID:5c60b5d04785d3966115e2b3@squarespace.com
DTSTAMP:20190210T234248Z
DTSTART:20190214T063000Z
DTEND:20190214T080000Z
SUMMARY:Author talk - Frank Prem
END:VEVENT
END:VCALENDAR
