BEGIN:VCALENDAR
VERSION:2.0
PRODID:-//Squarespace Inc/Squarespace 6//v6//EN
BEGIN:VEVENT
UID:5c58cc891905f4098aacba1f@squarespace.com
DTSTAMP:20190204T234627Z
DTSTART:20190213T063000Z
DTEND:20190213T083000Z
SUMMARY:Kombucha Basics Workshop @ Avenue
END:VEVENT
END:VCALENDAR
