BEGIN:VCALENDAR
VERSION:2.0
PRODID:-//Squarespace Inc/Squarespace 6//v6//EN
BEGIN:VEVENT
UID:5c58c742971a1829fbe5e7f9@squarespace.com
DTSTAMP:20190206T003714Z
DTSTART:20190209T230000Z
DTEND:20190210T010000Z
SUMMARY:Advanced Kombucha and Flavouring Fermentations Workshop @ Yack Orga
 nics
END:VEVENT
END:VCALENDAR
