BEGIN:VCALENDAR
VERSION:2.0
PRODID:-//Squarespace Inc/Squarespace 6//v6//EN
BEGIN:VEVENT
UID:5c3e751b0ebbe8a8ccc66727@squarespace.com
DTSTAMP:20190116T004308Z
DTSTART:20190131T073000Z
DTEND:20190131T103000Z
SUMMARY:Yackandandah Bowling Club - Community Bowls
END:VEVENT
END:VCALENDAR
