BEGIN:VCALENDAR
VERSION:2.0
PRODID:-//Squarespace Inc/Squarespace 6//v6//EN
BEGIN:VEVENT
UID:5c3e72ab032be46f5ac77e3c@squarespace.com
DTSTAMP:20190116T000426Z
DTSTART:20190125T210000Z
DTEND:20190126T000000Z
SUMMARY:Yackandandah Lions Club Australia Day breakfast
END:VEVENT
END:VCALENDAR
