BEGIN:VCALENDAR
VERSION:2.0
PRODID:-//Squarespace Inc/Squarespace 6//v6//EN
BEGIN:VEVENT
UID:5c400d68f950b7e303b2ac02@squarespace.com
DTSTAMP:20190117T051656Z
DTSTART:20190126T083000Z
DTEND:20190126T113000Z
SUMMARY:Australia Day Party 2019
GEO:-36.313284;146.838593
LOCATION:Star Hotel\, 30 High Street\, Yackandandah\, VIC\, 3749\, Australi
 a
END:VEVENT
END:VCALENDAR
