BEGIN:VCALENDAR
VERSION:2.0
PRODID:-//Squarespace Inc/Squarespace 6//v6//EN
BEGIN:VEVENT
UID:5c46904f4ae23787ae4c71d9@squarespace.com
DTSTAMP:20190219T045229Z
DTSTART:20190222T233000Z
DTEND:20190223T003000Z
SUMMARY:Yackandandah Museum 50th Anniversary - Sculpture unveiling
END:VEVENT
END:VCALENDAR
