BEGIN:VCALENDAR
VERSION:2.0
PRODID:-//Squarespace Inc/Squarespace 6//v6//EN
BEGIN:VEVENT
UID:5bf3a73b03ce64eaeba69c05@squarespace.com
DTSTAMP:20181120T062416Z
DTSTART:20181225T003000Z
DTEND:20181225T033000Z
SUMMARY:Community Christmas Lunch
END:VEVENT
END:VCALENDAR
