BEGIN:VCALENDAR
VERSION:2.0
PRODID:-//Squarespace Inc/Squarespace 6//v6//EN
BEGIN:VEVENT
UID:5be3a34cc2241b3dd61eabfd@squarespace.com
DTSTAMP:20181108T025143Z
DTSTART:20181202T060000Z
DTEND:20181202T090000Z
SUMMARY:Yackandandah Community Christmas Party
END:VEVENT
END:VCALENDAR
