BEGIN:VCALENDAR
VERSION:2.0
PRODID:-//Squarespace Inc/Squarespace 6//v6//EN
BEGIN:VEVENT
UID:5c1198a388251b22682bbb05@squarespace.com
DTSTAMP:20181212T234934Z
DTSTART:20181215T220000Z
DTEND:20181216T020000Z
SUMMARY:Yackandandah Lions Club Market
END:VEVENT
END:VCALENDAR
