BEGIN:VCALENDAR
VERSION:2.0
PRODID:-//Squarespace Inc/Squarespace 6//v6//EN
BEGIN:VEVENT
UID:5c119dd71ae6cfac2fd1f3a4@squarespace.com
DTSTAMP:20190111T071616Z
DTSTART:20190119T220000Z
DTEND:20190120T020000Z
SUMMARY:Yackandandah Lions Club Market
END:VEVENT
END:VCALENDAR
