BEGIN:VCALENDAR
VERSION:2.0
PRODID:-//Squarespace Inc/Squarespace 6//v6//EN
BEGIN:VEVENT
UID:5c119e95032be4fd79feb2fb@squarespace.com
DTSTAMP:20190111T071623Z
DTSTART:20190216T220000Z
DTEND:20190217T020000Z
SUMMARY:Yackandandah Lions Club Market
END:VEVENT
END:VCALENDAR
