BEGIN:VCALENDAR
VERSION:2.0
PRODID:-//Squarespace Inc/Squarespace 6//v6//EN
BEGIN:VEVENT
UID:5c748c514785d3e4b2de93ae@squarespace.com
DTSTAMP:20190226T053534Z
DTSTART:20190420T230000Z
DTEND:20190421T030000Z
SUMMARY:Yackandandah Lions Club Market
END:VEVENT
END:VCALENDAR
