BEGIN:VCALENDAR
VERSION:2.0
PRODID:-//Squarespace Inc/Squarespace 6//v6//EN
BEGIN:VEVENT
UID:5c74d0edf4e1fc3d9a6f2b2b@squarespace.com
DTSTAMP:20200121T033438Z
DTSTART:20200215T220000Z
DTEND:20200216T020000Z
SUMMARY:Yackandandah Lions Club Market
END:VEVENT
END:VCALENDAR
