BEGIN:VCALENDAR
VERSION:2.0
PRODID:-//Squarespace Inc/Squarespace 6//v6//EN
BEGIN:VEVENT
UID:5e267229a938247a39180876@squarespace.com
DTSTAMP:20200121T033831Z
DTSTART:20201017T220000Z
DTEND:20201018T020000Z
SUMMARY:Yackandandah Lions Club Market
END:VEVENT
END:VCALENDAR
