BEGIN:VCALENDAR
VERSION:2.0
PRODID:-//Squarespace Inc/Squarespace 6//v6//EN
BEGIN:VEVENT
UID:5e2671db2509ff68a5d22fab@squarespace.com
DTSTAMP:20200121T033719Z
DTSTART:20200718T230000Z
DTEND:20200719T030000Z
SUMMARY:Yackandandah Lions Club Market
END:VEVENT
END:VCALENDAR
