BEGIN:VCALENDAR
VERSION:2.0
PRODID:-//Squarespace Inc/Squarespace 6//v6//EN
BEGIN:VEVENT
UID:5e2671bf9b35240322af8c73@squarespace.com
DTSTAMP:20200121T033653Z
DTSTART:20200620T230000Z
DTEND:20200621T030000Z
SUMMARY:Yackandandah Lions Club Market
END:VEVENT
END:VCALENDAR
