BEGIN:VCALENDAR
VERSION:2.0
PRODID:-//Squarespace Inc/Squarespace 6//v6//EN
BEGIN:VEVENT
UID:5e2672416570d547541f8e48@squarespace.com
DTSTAMP:20200121T033854Z
DTSTART:20201114T220000Z
DTEND:20201115T020000Z
SUMMARY:Yackandandah Lions Club Market
END:VEVENT
END:VCALENDAR
