BEGIN:VCALENDAR
VERSION:2.0
PRODID:-//Squarespace Inc/Squarespace 6//v6//EN
BEGIN:VEVENT
UID:5e26718be3c0a94c0a9f0fca@squarespace.com
DTSTAMP:20200121T033558Z
DTSTART:20200418T230000Z
DTEND:20200419T030000Z
SUMMARY:Yackandandah Lions Club Market
END:VEVENT
END:VCALENDAR
