BEGIN:VCALENDAR
VERSION:2.0
PRODID:-//Squarespace Inc/Squarespace 6//v6//EN
BEGIN:VEVENT
UID:5e2671f86570d547541f8399@squarespace.com
DTSTAMP:20200121T033748Z
DTSTART:20200815T230000Z
DTEND:20200816T030000Z
SUMMARY:Yackandandah Lions Club Market
END:VEVENT
END:VCALENDAR
