BEGIN:VCALENDAR
VERSION:2.0
PRODID:-//Squarespace Inc/Squarespace 6//v6//EN
BEGIN:VEVENT
UID:5e2671a737799167550fc31e@squarespace.com
DTSTAMP:20200121T033623Z
DTSTART:20200516T230000Z
DTEND:20200517T030000Z
SUMMARY:Yackandandah Lions Club Market
END:VEVENT
END:VCALENDAR
