BEGIN:VCALENDAR
VERSION:2.0
PRODID:-//Squarespace Inc/Squarespace 6//v6//EN
BEGIN:VEVENT
UID:5e267256e8e5303c326cc5eb@squarespace.com
DTSTAMP:20200121T033924Z
DTSTART:20201219T220000Z
DTEND:20201220T020000Z
SUMMARY:Yackandandah Lions Club Market
END:VEVENT
END:VCALENDAR
