BEGIN:VCALENDAR
VERSION:2.0
PRODID:-//Squarespace Inc/Squarespace 6//v6//EN
BEGIN:VEVENT
UID:5ffe3da9f750d7651acf2d5a@squarespace.com
DTSTAMP:20210118T001511Z
DTSTART:20210220T220000Z
DTEND:20210221T020000Z
SUMMARY:Yackandandah Lions Club Market
END:VEVENT
END:VCALENDAR
