BEGIN:VCALENDAR
VERSION:2.0
PRODID:-//Squarespace Inc/Squarespace 6//v6//EN
BEGIN:VEVENT
UID:5ffe3ca11ac72d4487f06fcf@squarespace.com
DTSTAMP:20210113T002358Z
DTSTART:20210116T220000Z
DTEND:20210117T020000Z
SUMMARY:Yackandandah Lions Club Market
END:VEVENT
END:VCALENDAR
