BEGIN:VCALENDAR
VERSION:2.0
PRODID:-//Squarespace Inc/Squarespace 6//v6//EN
BEGIN:VEVENT
UID:5c74d07a9140b76e488aa7e5@squarespace.com
DTSTAMP:20190226T053713Z
DTSTART:20190720T230000Z
DTEND:20190721T030000Z
SUMMARY:Yackandandah Lions Club Market
END:VEVENT
END:VCALENDAR
