BEGIN:VCALENDAR
VERSION:2.0
PRODID:-//Squarespace Inc/Squarespace 6//v6//EN
BEGIN:VEVENT
UID:5c74d054085229b9004fb122@squarespace.com
DTSTAMP:20190226T053642Z
DTSTART:20190615T230000Z
DTEND:20190616T030000Z
SUMMARY:Yackandandah Lions Club Market
END:VEVENT
END:VCALENDAR
