BEGIN:VCALENDAR
VERSION:2.0
PRODID:-//Squarespace Inc/Squarespace 6//v6//EN
BEGIN:VEVENT
UID:5c74d02fee6eb07a7f46fe95@squarespace.com
DTSTAMP:20190226T053608Z
DTSTART:20190518T230000Z
DTEND:20190519T030000Z
SUMMARY:Yackandandah Lions Club Market
END:VEVENT
END:VCALENDAR
