BEGIN:VCALENDAR
VERSION:2.0
PRODID:-//Squarespace Inc/Squarespace 6//v6//EN
BEGIN:VEVENT
UID:5bf342db70a6ad3f29fd53e4@squarespace.com
DTSTAMP:20181119T231554Z
DTSTART:20181130T220000Z
DTEND:20181201T030000Z
SUMMARY:Yackandandah High Country Christmas Fair
END:VEVENT
END:VCALENDAR
