BEGIN:VCALENDAR
VERSION:2.0
PRODID:-//Squarespace Inc/Squarespace 6//v6//EN
BEGIN:VEVENT
UID:5bf35c01562fa7f30a80492f@squarespace.com
DTSTAMP:20181120T011434Z
DTSTART:20181130T230000Z
DTEND:20181201T020000Z
SUMMARY:Yackandandah Artist's Op en Studio Day
END:VEVENT
END:VCALENDAR
