BEGIN:VCALENDAR
VERSION:2.0
PRODID:-//Squarespace Inc/Squarespace 6//v6//EN
BEGIN:VEVENT
UID:5bda2a2f8a922d1e3578acc7@squarespace.com
DTSTAMP:20181031T223712Z
DTSTART:20181201T003000Z
DTEND:20181201T013000Z
SUMMARY:What A Hoot
GEO:-36.309028;146.843988
LOCATION:Yack Station Arts.\, 6 Turntable Lane\, Yackandandah\, VIC\, 3749\
 , Australia
END:VEVENT
END:VCALENDAR
