BEGIN:VCALENDAR
VERSION:2.0
PRODID:-//Squarespace Inc/Squarespace 6//v6//EN
BEGIN:VEVENT
UID:5be369874d7a9cb7bf59309c@squarespace.com
DTSTAMP:20181108T013142Z
DTSTART:20181123T220000Z
DTEND:20181125T063000Z
SUMMARY:Copy of John Dermer 41st Annual Pottery Exhibtion
GEO:-36.342622;146.831471
LOCATION:Kirby's Flat Pottery\, 225 kirby's Flat Road\, Yackandandah
END:VEVENT
END:VCALENDAR
