BEGIN:VCALENDAR
VERSION:2.0
PRODID:-//Squarespace Inc/Squarespace 6//v6//EN
BEGIN:VEVENT
UID:5bcfc42da4222f3b7d10672e@squarespace.com
DTSTAMP:20181024T011716Z
DTSTART:20181110T230000Z
DTEND:20181111T050000Z
SUMMARY:Yackandandah Billy Cart Race
GEO:-36.310244;146.842948
LOCATION:Railway Avenue\, Yackandandah\, VIC\, 3749\, Australia
END:VEVENT
END:VCALENDAR
