BEGIN:VCALENDAR
VERSION:2.0
PRODID:-//Squarespace Inc/Squarespace 6//v6//EN
BEGIN:VEVENT
UID:5be4d637562fa7f29aa13aab@squarespace.com
DTSTAMP:20181109T003903Z
DTSTART:20181110T090000Z
DTEND:20181110T120000Z
SUMMARY:Red Dog at the Bottum Pub
END:VEVENT
END:VCALENDAR
